BEGIN:VCALENDAR
VERSION:2.0
PRODID:-//GEIPP Indonesia - ECPv5.9.1//NONSGML v1.0//EN
CALSCALE:GREGORIAN
METHOD:PUBLISH
X-WR-CALNAME:GEIPP Indonesia
X-ORIGINAL-URL:https://www.geippindonesia.org
X-WR-CALDESC:Events for GEIPP Indonesia
BEGIN:VTIMEZONE
TZID:UTC
BEGIN:STANDARD
TZOFFSETFROM:+0000
TZOFFSETTO:+0000
TZNAME:UTC
DTSTART:20200101T000000
END:STANDARD
END:VTIMEZONE
BEGIN:VEVENT
DTSTART;TZID=UTC:20211102T100000
DTEND;TZID=UTC:20211102T170000
DTSTAMP:20260422T212003
CREATED:20211009T082012Z
LAST-MODIFIED:20220404T041350Z
UID:18156-1635847200-1635872400@www.geippindonesia.org
SUMMARY:Stakeholder Consultation Meeting
DESCRIPTION:Stakeholder Consultation Meeting for Preparation of National Road Maps\, Frameworks and Programs in development of Eco-Industrial Park in Indonesia at Batiqa Hotel\, Karawang
URL:https://www.geippindonesia.org/activities/lorem-ipsum-dolor-sit-amet-consectetur-adipiscing-elit/
LOCATION:Indonesia at Batiqa Hotel\, Karawang\, Indonesia
CATEGORIES:GEIPP Indonesia
END:VEVENT
BEGIN:VEVENT
DTSTART;TZID=UTC:20211102T080000
DTEND;TZID=UTC:20211102T170000
DTSTAMP:20260422T212003
CREATED:20211102T090800Z
LAST-MODIFIED:20211103T095754Z
UID:18443-1635840000-1635872400@www.geippindonesia.org
SUMMARY:Indonesia Awareness-Raising Event on Eco-Industrial Park International experiences on EIP Policy Development
DESCRIPTION:To raise awareness among representatives of Indonesian governmental authorities about the international experience of the EIP Policy implementation and bring together representatives from various relevant stakeholders to discuss the gaps of Indonesian IP related policy regulations and possibilities of its improvement according to the International EIP Framework.
URL:https://www.geippindonesia.org/activities/indonesia-awareness-raising-event-on-eco-industrial-park-international-experiences-on-eip-policy-development/
LOCATION:Virtual
CATEGORIES:GEIPP Indonesia
ATTACH;FMTTYPE=image/png:https://www.geippindonesia.org/wp-content/uploads/2021/11/Indonesia-Awereness-raising-270821.png
END:VEVENT
BEGIN:VEVENT
DTSTART;TZID=UTC:20211027T080000
DTEND;TZID=UTC:20211029T170000
DTSTAMP:20260422T212003
CREATED:20211029T045529Z
LAST-MODIFIED:20211102T054612Z
UID:18135-1635321600-1635526800@www.geippindonesia.org
SUMMARY:Field visit to tenants of Batamindo Industrial Park
DESCRIPTION:Field visit to tenants of Batamindo Industrial Park as demo unit of RECP assessment and implementation under GEIPP-Indonesia Programme\, 27-29 October 2021. \nThe tenant’s companies of Batamindo Industrial Park joined RECP as demo units\, i.e.\, PT Nissin Kogyo Batam\, PT. Sumitomo Wiring Systems Batam Indonesia\, PT. Sammyung Precision Batam\, PT Valeo AC Indonesia.
URL:https://www.geippindonesia.org/activities/mattis-molestie-a-iaculis-at-erat-pellentesque-adipiscing-commodo-elit/
LOCATION:Batamindo Industrial Park\, Batam\, Indonesia
CATEGORIES:GEIPP Indonesia
ATTACH;FMTTYPE=image/jpeg:https://www.geippindonesia.org/wp-content/uploads/2021/10/field-visit-to-tenants-of-batamindo-ip.jpg
END:VEVENT
BEGIN:VEVENT
DTSTART;TZID=UTC:20211026T090000
DTEND;TZID=UTC:20211026T130000
DTSTAMP:20260422T212003
CREATED:20211101T015125Z
LAST-MODIFIED:20220404T041014Z
UID:18290-1635238800-1635253200@www.geippindonesia.org
SUMMARY:Workshop on Resource Efficient and Cleaner Production (RECP)
DESCRIPTION:Workshop on Resource Efficient and Cleaner Production (RECP) for Batamindo Industrial Park and Tenant Companies in Batam.\nSince the Pandemic of COVID 19\, this is the first workshop with Batamindo Industrial Park and the tenant’s companies conducted in face-to-face meeting (offline) with only few participants joined online due to maximum capacity in the meeting room to ensure the workshop complied with government regulation. the workshop on Resource Efficient and Cleaner Production (RECP) for Batamindo Industrial Park and Batamindo Tenant Companies is to further disseminate the benefits from implementing the activities for Resource Efficient and Cleaner Production (RECP) as part of the GEIPP-Indonesia project implementation. This workshop also aims to directly engage with the potential companies in Batamindo to participate on the RECP programme as the demo units.
URL:https://www.geippindonesia.org/activities/workshop-on-resource-efficient-and-cleaner-production-recp/
LOCATION:Batamindo Industrial Park\, Batam\, Indonesia
CATEGORIES:GEIPP Indonesia
ATTACH;FMTTYPE=image/jpeg:https://www.geippindonesia.org/wp-content/uploads/2021/11/Workshop-on-Resource-Efficient-and-Cleaner-Production-batamindo.jpg
END:VEVENT
BEGIN:VEVENT
DTSTART;TZID=UTC:20211019T090000
DTEND;TZID=UTC:20211019T143000
DTSTAMP:20260422T212003
CREATED:20211101T015657Z
LAST-MODIFIED:20211108T094308Z
UID:18293-1634634000-1634653800@www.geippindonesia.org
SUMMARY:Workshop with MM2100 Industrial Town
DESCRIPTION:Workshop with MM2100 Industrial Town and tenant companies on collaborative synergy opportunities (virtual training). \nThe workshop with MM2100 Industrial Town and tenant companies on collaborative synergy opportunities is to disseminate various routes and approaches of industrial synergy and identify and prioritize synergy opportunities with companies and park management. \n 
URL:https://www.geippindonesia.org/activities/workshop-with-mm2100-industrial-town/
LOCATION:Virtual
CATEGORIES:GEIPP Indonesia
END:VEVENT
BEGIN:VEVENT
DTSTART;TZID=UTC:20211011T100000
DTEND;TZID=UTC:20211011T143000
DTSTAMP:20260422T212003
CREATED:20211108T093406Z
LAST-MODIFIED:20211108T094200Z
UID:18475-1633946400-1633962600@www.geippindonesia.org
SUMMARY:High Level Visit to MM2100 Industrial Town of H.E Mr. Kurt Kunz\, Ambassador of Switzerland to Indonesia\, Timor-Leste\, and ASEAN and Representative of Ministry of Industry of Republic of Indonesia
DESCRIPTION:The field visit to see the progress the implementation of Global Eco-Industrial Park Programme-Indonesia Country Level Intervention (GEIPP-Indonesia) collaboration between UNIDO with the Ministry of Industry of Republic of Indonesia funded by Secretariat of Economic Affairs\, Government of Switzerland and the project is formally started w.e.f. 1st July 2020 for a period of two and a-half years.
URL:https://www.geippindonesia.org/activities/high-level-visit-to-mm2100-industrial-town-of-h-e-mr-kurt-kunz-ambassador-of-switzerland-to-indonesia-timor-leste-and-asean-and-representative-of-ministry-of-industry-of-republic-of-indonesia/
LOCATION:MM2100 Industrial Park\, Bekasi\, Jawa Barat\, Indonesia
CATEGORIES:GEIPP Indonesia
ATTACH;FMTTYPE=image/jpeg:https://www.geippindonesia.org/wp-content/uploads/2021/11/events-11102021.jpg
END:VEVENT
BEGIN:VEVENT
DTSTART;TZID=UTC:20210831T133000
DTEND;TZID=UTC:20210831T163000
DTSTAMP:20260422T212003
CREATED:20211108T092608Z
LAST-MODIFIED:20211108T093601Z
UID:18470-1630416600-1630427400@www.geippindonesia.org
SUMMARY:Workshop on Implementation of Solar Photo Voltaic in Eco-Industrial Parks (EIP)
DESCRIPTION:This workshop on Implementation of Solar Photo Voltaic in Eco-Industrial Parks (EIP) to be held for several industrial parks to increase knowledge and further raise awareness on Eco Industrial Park (EIP) and to further explain the know-how of the Solar PV installation in the industries\, the key challenges and the social\, environmental\, economic benefits of the installation\, and the relevant regulations and policies in place that may enable and support its implementation and its development.
URL:https://www.geippindonesia.org/activities/workshop-on-implementation-of-solar-photo-voltaic-in-eco-industrial-parks-eip/
CATEGORIES:GEIPP Indonesia
ATTACH;FMTTYPE=image/png:https://www.geippindonesia.org/wp-content/uploads/2021/11/events-31082021.png
END:VEVENT
BEGIN:VEVENT
DTSTART;TZID=UTC:20210706T080000
DTEND;TZID=UTC:20210707T170000
DTSTAMP:20260422T212003
CREATED:20211108T092312Z
LAST-MODIFIED:20211108T092312Z
UID:18467-1625558400-1625677200@www.geippindonesia.org
SUMMARY:Workshop on GHG Emission for Capacity Building of Eco-Industrial Parks (EIP)
DESCRIPTION:A capacity building workshop on GHG Emission is to introduce some information relevant information on GHG Emission Calculation to support the objective of EIP implementation
URL:https://www.geippindonesia.org/activities/workshop-on-ghg-emission-for-capacity-building-of-eco-industrial-parks-eip/
LOCATION:Virtual
CATEGORIES:GEIPP Indonesia
END:VEVENT
BEGIN:VEVENT
DTSTART;TZID=UTC:20210602T080000
DTEND;TZID=UTC:20210603T170000
DTSTAMP:20260422T212003
CREATED:20211108T092049Z
LAST-MODIFIED:20211108T093945Z
UID:18464-1622620800-1622739600@www.geippindonesia.org
SUMMARY:Workshop on Water and wastewater treatment for Batamindo Industrial Park and Its Tenants
DESCRIPTION:Following up the introductory workshop of RECP and EIP in early May 2021\, a tailor-made capacity building designed for Batamindo Industrial Park was held on 2-3 June 2021. This two days’ virtual workshop\, specified for water and wastewater management (including recycling water procedure to produce halal quality potable water was identified to support the enhancement of Batamindo EIP implementation. The objective of capacity building workshop on water and wastewater management is to introduce some information on water and wastewater management and its technology and to initiate a budding discussion on solid waste management issues faced by Batamindo.
URL:https://www.geippindonesia.org/activities/workshop-on-water-and-wastewater-treatment-for-batamindo-industrial-park-and-its-tenants/
LOCATION:Virtual
CATEGORIES:GEIPP Indonesia
ATTACH;FMTTYPE=image/png:https://www.geippindonesia.org/wp-content/uploads/2021/11/events-02062021.png
END:VEVENT
BEGIN:VEVENT
DTSTART;TZID=UTC:20210505T080000
DTEND;TZID=UTC:20210506T170000
DTSTAMP:20260422T212003
CREATED:20211108T091838Z
LAST-MODIFIED:20211108T093926Z
UID:18461-1620201600-1620320400@www.geippindonesia.org
SUMMARY:Workshop on Solid Waste Management for MM2100 Industrial Town and its Tenants
DESCRIPTION:Capacity building specified for solid waste management\, both industrial (including hazardous waste) and domestic waste was identified to support the enhancement of MM2100 EIP implementation. As the first step\, a two days’ virtual capacity building was held for MM2100 on 5-6 May 2021 to increase knowledge and further raise awareness on EIP.  The objective of capacity building workshop on solid waste management is to introduce some information on solid waste management and its technology and to initiate a budding discussion on solid waste management issues faced by MM2100
URL:https://www.geippindonesia.org/activities/workshop-on-solid-waste-management-for-mm2100-industrial-town-and-its-tenants/
LOCATION:Virtual
CATEGORIES:GEIPP Indonesia
ATTACH;FMTTYPE=image/png:https://www.geippindonesia.org/wp-content/uploads/2021/11/events-05052021.png
END:VEVENT
BEGIN:VEVENT
DTSTART;TZID=UTC:20210428T080000
DTEND;TZID=UTC:20210428T170000
DTSTAMP:20260422T212003
CREATED:20211103T094142Z
LAST-MODIFIED:20211108T093707Z
UID:18455-1619596800-1619629200@www.geippindonesia.org
SUMMARY:Socialization event for MM2100 Industrial Town
DESCRIPTION:A socialization event for RECP and Industrial Synergized for MM2100 has also been organized in collaboration with the park management of MM2100 for their tenant companies on 28 April 2021.
URL:https://www.geippindonesia.org/activities/socialization-event-for-mm2100-industrial-town/
LOCATION:Virtual
CATEGORIES:GEIPP Indonesia
ATTACH;FMTTYPE=image/png:https://www.geippindonesia.org/wp-content/uploads/2021/11/events-28042021.png
END:VEVENT
BEGIN:VEVENT
DTSTART;TZID=UTC:20210421T080000
DTEND;TZID=UTC:20210422T170000
DTSTAMP:20260422T212003
CREATED:20211103T093417Z
LAST-MODIFIED:20211108T093854Z
UID:18450-1618992000-1619110800@www.geippindonesia.org
SUMMARY:Workshop on Developing of Eco-Industrial Park: The Implementation of Circular Economy in Developing of Global Eco Industrial Park
DESCRIPTION:Workshop on Developing of Eco-Industrial Park: The Implementation of Circular Economy in Developing of Global Eco Industrial Park\, Hybrid workshop on Wednesday-Thursday\, 21-22 April 2021 \nTo facilitate the inter-ministerial dialogue\, the inter-ministerial coordination to identify and disseminate strategic government programs related to the acceleration of Eco-Industrial Parks (EIPs) development in Indonesia\, and To discuss the opportunities and challenges of developing the EIPs through the conducive policies and strategic programs (including supporting infrastructure) also to synergize the stakeholders for the development of the EIP Program.
URL:https://www.geippindonesia.org/activities/5-workshop-on-developing-of-eco-industrial-park-the-implementation-of-circular-economy-in-developing-of-global-eco-industrial-park/
LOCATION:Hybrid\, Indonesia
CATEGORIES:GEIPP Indonesia
ATTACH;FMTTYPE=image/jpeg:https://www.geippindonesia.org/wp-content/uploads/2021/11/events-22042021.png.jpg
END:VEVENT
BEGIN:VEVENT
DTSTART;TZID=UTC:20210330T080000
DTEND;TZID=UTC:20210401T170000
DTSTAMP:20260422T212003
CREATED:20211103T092540Z
LAST-MODIFIED:20211103T092540Z
UID:18447-1617091200-1617296400@www.geippindonesia.org
SUMMARY:Workshop on Eco-Industrial Parks (EIP)\, RECP\, and Industrial Synergies
DESCRIPTION:Workshop on Eco-Industrial Parks (EIP)\, RECP\, and Industrial Synergies for MM2100 Industrial Town and Batamindo Industrial Park\, online workshop 30 March- 1 April 2021. \nTwo days introductory virtual workshops for both MM2100 Industrial Town and Batamindo Industrial Park consecutively\, as a kick -off workshop of a series of capacity building designed for both specifically for both industrial park and its tenants. As a kick-off workshop\, these two workshops were initiating the activities for Resource Efficient and Cleaner Production (RECP) as part of the GEIPP-Indonesia project implementation and also a first stage of identifying the potential industrial synergies among tenants of the MM2100 industrial park and Batamindo industrial park.
URL:https://www.geippindonesia.org/activities/workshop-on-eco-industrial-parks-eip-recp-and-industrial-synergies/
LOCATION:Virtual
CATEGORIES:GEIPP Indonesia
ATTACH;FMTTYPE=image/png:https://www.geippindonesia.org/wp-content/uploads/2021/11/events-30032021.png
END:VEVENT
BEGIN:VEVENT
DTSTART;TZID=UTC:20201023T080000
DTEND;TZID=UTC:20201023T170000
DTSTAMP:20260422T212003
CREATED:20211102T075837Z
LAST-MODIFIED:20211108T095750Z
UID:18429-1603440000-1603472400@www.geippindonesia.org
SUMMARY:The GEIPP - Indonesia Programme Launch
DESCRIPTION:UNIDO together with Indonesia Ministry of Industry\, State Secretariat of Economic Affairs (SECO) from Government of Switzerland\, selected Eco Industrial Park management and Industrial Estate Association of Indonesia (HKI/Himpunan Kawasan Industri Indonesia) have launched the Global Eco Industrial Park Programme\, Indonesia Country Level Intervention Project on 23rd October 2020 at Jakarta. \nThe official launch has been conducted as hybrid event (limited participant offline and virtual online launching)\, that were attended by around 80 people mixed online and offline. The launching was inaugurated by the important stakeholders; Ministry of Industry\, Swiss State Secretariat for Economic Affairs (SECO)/Embassy of Switzerland\, Ministry of Environment and Forestry\, UNIDO\, MM2100 Industrial Town and Batamindo Industrial Park. Online participants from BAPPENAS\, Ministry of Foreign Affairs\, State Secretariat\, Ministry of finance\, Himpunan Kawasan Industri (HKI)\, industrial parks\, and tenant companies from the industrial parks also joined virtually.
URL:https://www.geippindonesia.org/activities/the-geipp-indonesia-programme-launch/
LOCATION:JW Marriot Hotel\, Jakarta\, Indonesia
CATEGORIES:GEIPP Indonesia,UNIDO
ATTACH;FMTTYPE=image/jpeg:https://www.geippindonesia.org/wp-content/uploads/2021/11/The-GEIPP-Indonesia-Programme-Launch.jpg
END:VEVENT
BEGIN:VEVENT
DTSTART;TZID=UTC:20200827T080000
DTEND;TZID=UTC:20200827T170000
DTSTAMP:20260422T212003
CREATED:20211102T085020Z
LAST-MODIFIED:20211108T094530Z
UID:18436-1598515200-1598547600@www.geippindonesia.org
SUMMARY:Training of the Industrial Parks on Digital Solution for EIPS in M2100 Industrial Town
DESCRIPTION:The training webinars on the use of digital solution\, Industry 4.0 and IOT technologies/ approaches and social performance of the industrial parks and tenant companies were organized on 27 Aug 2020 for MM2100 industrial town and their tenant companies.
URL:https://www.geippindonesia.org/activities/training-of-the-industrial-parks-on-digital-solution-for-eips-in-m2100-industrial-town/
LOCATION:Virtual
CATEGORIES:GEIPP Indonesia
ATTACH;FMTTYPE=image/png:https://www.geippindonesia.org/wp-content/uploads/2021/11/Training-of-the-Industrial-Parks-on-Digital-Solution-for-EIPS-in-MM2100-Industrial-Town-270820.png
END:VEVENT
BEGIN:VEVENT
DTSTART;TZID=UTC:20200825T080000
DTEND;TZID=UTC:20200825T170000
DTSTAMP:20260422T212003
CREATED:20211102T083457Z
LAST-MODIFIED:20211108T093758Z
UID:18432-1598342400-1598374800@www.geippindonesia.org
SUMMARY:Training of the Industrial Parks on Digital Solution for EIPS in Batamindo Industrial Park
DESCRIPTION:The training webinars on the use of digital solution\, Industry 4.0 and IOT technologies/ approaches and social performance of the industrial parks and tenant companies were organized on 25 Aug 2020 for Batamindo Industrial Park and their tenant companies.
URL:https://www.geippindonesia.org/activities/training-of-the-industrial-parks-on-digital-solution-for-eips-in-batamindo-industrial-park/
LOCATION:Virtual
CATEGORIES:GEIPP Indonesia
ATTACH;FMTTYPE=image/png:https://www.geippindonesia.org/wp-content/uploads/2021/11/Training-of-the-Industrial-Parks-on-Digital-Solution-for-EIPS-in-Batamindo-Industrial-Park-250820.png
END:VEVENT
END:VCALENDAR