BEGIN:VCALENDAR
VERSION:2.0
PRODID:-//GEIPP Indonesia - ECPv5.9.1//NONSGML v1.0//EN
CALSCALE:GREGORIAN
METHOD:PUBLISH
X-WR-CALNAME:GEIPP Indonesia
X-ORIGINAL-URL:https://www.geippindonesia.org
X-WR-CALDESC:Events for GEIPP Indonesia
BEGIN:VTIMEZONE
TZID:UTC
BEGIN:STANDARD
TZOFFSETFROM:+0000
TZOFFSETTO:+0000
TZNAME:UTC
DTSTART:20230101T000000
END:STANDARD
END:VTIMEZONE
BEGIN:VEVENT
DTSTART;TZID=UTC:20230302T080000
DTEND;TZID=UTC:20230302T170000
DTSTAMP:20260422T172550
CREATED:20230303T090012Z
LAST-MODIFIED:20231207T042110Z
UID:19850-1677744000-1677776400@www.geippindonesia.org
SUMMARY:2nd Roundtable Meeting of Inter-ministerial Forum: Environmental Criteria in EIP in Indonesia
DESCRIPTION:The second Inter-Ministerial Roundtable Forum was organized with a discussion themed Environmental Criteria in Eco-Industrial Park in Indonesia focusing on hazardous waste management and wastewater management in industrial parks. At the event\, input was received from various relevant ministries\, including the Ministry of Industry\, Ministry of Environment and Forestry\, Coordinating Ministry for Economic Affairs\, Ministry of Finance\, Ministry of National Development Planning/Bappenas\, and Ministry of Public Works and Public Housing in the form of regulations regarding environmental requirements (hazardous waste and water management)\, issues\, obstacles\, and possible best solutions for EIP development. The discussion will be continued in the subsequent roundtables.
URL:https://www.geippindonesia.org/activities/2nd-roundtable-meeting-of-inter-ministerial-forum-environmental-criteria-in-eip-in-indonesia/
CATEGORIES:GEIPP Indonesia
ATTACH;FMTTYPE=image/jpeg:https://www.geippindonesia.org/wp-content/uploads/2023/03/230303-event-2nd-Roundtable-Meeting-of-Inter-ministerial-Forum-2.jpeg
END:VEVENT
END:VCALENDAR