BEGIN:VCALENDAR
VERSION:2.0
PRODID:-//GEIPP Indonesia - ECPv5.9.1//NONSGML v1.0//EN
CALSCALE:GREGORIAN
METHOD:PUBLISH
X-WR-CALNAME:GEIPP Indonesia
X-ORIGINAL-URL:https://www.geippindonesia.org
X-WR-CALDESC:Events for GEIPP Indonesia
BEGIN:VTIMEZONE
TZID:UTC
BEGIN:STANDARD
TZOFFSETFROM:+0000
TZOFFSETTO:+0000
TZNAME:UTC
DTSTART:20210101T000000
END:STANDARD
END:VTIMEZONE
BEGIN:VEVENT
DTSTART;TZID=UTC:20210421T080000
DTEND;TZID=UTC:20210422T170000
DTSTAMP:20260422T200217
CREATED:20211103T093417Z
LAST-MODIFIED:20211108T093854Z
UID:18450-1618992000-1619110800@www.geippindonesia.org
SUMMARY:Workshop on Developing of Eco-Industrial Park: The Implementation of Circular Economy in Developing of Global Eco Industrial Park
DESCRIPTION:Workshop on Developing of Eco-Industrial Park: The Implementation of Circular Economy in Developing of Global Eco Industrial Park\, Hybrid workshop on Wednesday-Thursday\, 21-22 April 2021 \nTo facilitate the inter-ministerial dialogue\, the inter-ministerial coordination to identify and disseminate strategic government programs related to the acceleration of Eco-Industrial Parks (EIPs) development in Indonesia\, and To discuss the opportunities and challenges of developing the EIPs through the conducive policies and strategic programs (including supporting infrastructure) also to synergize the stakeholders for the development of the EIP Program.
URL:https://www.geippindonesia.org/activities/5-workshop-on-developing-of-eco-industrial-park-the-implementation-of-circular-economy-in-developing-of-global-eco-industrial-park/
LOCATION:Hybrid\, Indonesia
CATEGORIES:GEIPP Indonesia
ATTACH;FMTTYPE=image/jpeg:https://www.geippindonesia.org/wp-content/uploads/2021/11/events-22042021.png.jpg
END:VEVENT
END:VCALENDAR