BEGIN:VCALENDAR
VERSION:2.0
PRODID:-//GEIPP Indonesia - ECPv5.9.1//NONSGML v1.0//EN
CALSCALE:GREGORIAN
METHOD:PUBLISH
X-WR-CALNAME:GEIPP Indonesia
X-ORIGINAL-URL:https://www.geippindonesia.org
X-WR-CALDESC:Events for GEIPP Indonesia
BEGIN:VTIMEZONE
TZID:UTC
BEGIN:STANDARD
TZOFFSETFROM:+0000
TZOFFSETTO:+0000
TZNAME:UTC
DTSTART:20230101T000000
END:STANDARD
END:VTIMEZONE
BEGIN:VEVENT
DTSTART;TZID=UTC:20230508T080000
DTEND;TZID=UTC:20230512T170000
DTSTAMP:20260422T160421
CREATED:20230513T091051Z
LAST-MODIFIED:20231207T114825Z
UID:19854-1683532800-1683910800@www.geippindonesia.org
SUMMARY:Eco-Industrial Parks (EIPs) and Innovation Knowledge Exchange in Korea
DESCRIPTION:UNIDO and the World Bank jointly organized a knowledge exchange visit to the Republic of Korea on Eco-Industrial Parks from 8 to 12 May 2023. This event has brought together officials from Korea’s Ministry of Industry\, Trade\, and Energy\, East Asia\, and Pacific (Indonesia and Vietnam) and Latin America and the Caribbean (Haiti and Brazil) countries\, World Bank Finance\, Competitiveness\, and Innovation staff\, UNIDO staff\, and relevant Korean public and private sector partners. From Indonesia\, the representatives from the Ministry of Industry\, the Coordinating Ministry for Economic Affairs\, the Ministry of Environment and Forestry\, and the Indonesian Industrial Estates Association (HKI) attended the event. \nUNIDO and the World Bank are working together to include the indicators and benchmarks that would be adequate to assess the industrial parks for their competitiveness and also to evaluate them against the relevant benchmarks for Indonesia under the International Framework for EIPs in line with the ambition of the National Framework for EIPs in Indonesia
URL:https://www.geippindonesia.org/activities/eco-industrial-parks-eips-and-innovation-knowledge-exchange-in-korea/
LOCATION:Korea\, Korea\, Democratic People's Republic of
CATEGORIES:GEIPP Indonesia
ATTACH;FMTTYPE=image/png:https://www.geippindonesia.org/wp-content/uploads/2023/05/230408-event-Eco-Industrial-Parks-EIPs-and-Innovation-Knowledge-Exchange-in-Korea.png
END:VEVENT
END:VCALENDAR