BEGIN:VCALENDAR
VERSION:2.0
PRODID:-//GEIPP Indonesia - ECPv5.9.1//NONSGML v1.0//EN
CALSCALE:GREGORIAN
METHOD:PUBLISH
X-WR-CALNAME:GEIPP Indonesia
X-ORIGINAL-URL:https://www.geippindonesia.org
X-WR-CALDESC:Events for GEIPP Indonesia
BEGIN:VTIMEZONE
TZID:UTC
BEGIN:STANDARD
TZOFFSETFROM:+0000
TZOFFSETTO:+0000
TZNAME:UTC
DTSTART:20230101T000000
END:STANDARD
END:VTIMEZONE
BEGIN:VEVENT
DTSTART;TZID=UTC:20230220T080000
DTEND;TZID=UTC:20230220T170000
DTSTAMP:20260422T172920
CREATED:20230221T042128Z
LAST-MODIFIED:20231205T111609Z
UID:19843-1676880000-1676912400@www.geippindonesia.org
SUMMARY:EIP Awareness on Synergy Towards PCBs-Free Indonesia 2028 at MM2100 Industrial Town
DESCRIPTION:GEIPP-Indonesia has collaborated with the ongoing “Introduction of an Environmentally Sound Management and Disposal System for PCBs wastes and PCB-contaminated Equipment- in Indonesia (PIF)”\, funded by GEF\, and MM2100 industrial park joined with the tenant companies took a pledge for initiating the activities for making MM2100 PCB Free.
URL:https://www.geippindonesia.org/activities/eip-awareness-on-synergy-towards-pcbs-free-indonesia-2028-at-mm2100-industrial-town/
LOCATION:MM2100 Industrial Park\, Bekasi\, Jawa Barat\, Indonesia
CATEGORIES:GEIPP Indonesia
ATTACH;FMTTYPE=image/png:https://www.geippindonesia.org/wp-content/uploads/2023/12/230220-Event-EIP-Awareness-on-Synergy-Towards-PCBs.png
END:VEVENT
END:VCALENDAR