BEGIN:VCALENDAR
VERSION:2.0
PRODID:-//GEIPP Indonesia - ECPv5.9.1//NONSGML v1.0//EN
CALSCALE:GREGORIAN
METHOD:PUBLISH
X-WR-CALNAME:GEIPP Indonesia
X-ORIGINAL-URL:https://www.geippindonesia.org
X-WR-CALDESC:Events for GEIPP Indonesia
BEGIN:VTIMEZONE
TZID:UTC
BEGIN:STANDARD
TZOFFSETFROM:+0000
TZOFFSETTO:+0000
TZNAME:UTC
DTSTART:20210101T000000
END:STANDARD
END:VTIMEZONE
BEGIN:VEVENT
DTSTART;TZID=UTC:20211118T130000
DTEND;TZID=UTC:20211118T163000
DTSTAMP:20260422T185046
CREATED:20211116T075301Z
LAST-MODIFIED:20220830T062605Z
UID:18513-1637240400-1637253000@www.geippindonesia.org
SUMMARY:Terms of Reference Workshop on Improving Social Performance of  Industrial Parks (IPs) in Indonesia
DESCRIPTION:1.      Background\nEco industrial park program organized by Unido aims to change industrial areas in Indonesia into environmentally friendly industrial areas. There are many efforts to realize the eco industrial park program\, one of which is social indicators. Social indicators are statistical time series that are “used to monitor the social system\, helping to identify changes and to guide intervention to alter the course of social change”. Through the implementation of social indicators for industrial estates\, the social objectives can be more clearly defined of which can construct\, the process of data collection to measure and monitor social results and assess and report progress. Reporting includes both internal reports that assess and improve decision making and external reports that demonstrate whether social objectives are being achieved.\n\nWithin the framework of the Global Eco-Industrial Parks Programme (GEIPP) in Developing and Transition Countries currently implemented by UNIDO and funded by the Government of Switzerland through its State Secretariat of Economic Affairs\, this Project–the GEIPP Indonesia Country Level Intervention–will address the development of eco-industrial parks in Indonesia. Through the cooperation with Ministry of Industry\, GEIPP programme will support the implementation of capacity building series for industrial parks and tenant SMEs to meet international standards and requirements\, that includes social indicator to meet all of the eco industrial park minimum requirements. The social benefits deriving from EIP activities can catalyze the creation of quality local jobs through better working conditions.\n\nThis workshop on Implementation of social indicator for eco industrial park is planned to be held for several industrial parks to increase knowledge and further raise awareness on Eco Industrial Park (EIP) and to further explain Position of Social Issues in Sustainable Development\, Social issues in the Eco industrial framework\, Life Cycle Assessment (LCA) and Global Reporting Initiative (GRI)\, Social concern in its application in industrial areas\, Regulations and Policies and Management of Social Problems in Industrial Areas\, Identify social problems and develop programs for industrial areas\, Challenges in managing social problems\, and Measuring the Benefits of Managing Social Issues.\n2.      Objectives and expected outcomes of the workshop\nThe objectives of Workshop on Social Indicator in Eco-Industrial Parks (EIP) are:\n\n 	Creating awareness\, the important social issue management in sustainable development in industrial park\n 	Creating understanding of knowing parameter and social indicators in EIP\n 	Discussing relevant key regulations and policies for social issue in industrial park\n 	Identifying potential social programmes from EIP\n 	Learning case studies and success stories from the implementation of proper management of social aspect Eco Industrial Park\n\n3.      Date/Time\nThe workshop will be conducted virtually by using the zoom platform.\n\nDate                : Thursday\, 18 November 2021\n\nTime                : 13:00 – 16:30 WIB\n\nLink to join virtual workshop : Join Zoom Meeting\nhttps://us02web.zoom.us/j/81545779203?pwd=UXJmOFQ1Wlc4QUZIR04zUVZkNkZsZz09\n\nMeeting ID: 815 4577 9203\nPasscode: 215919\n\nBefore entering the webinar room\, please pay attention to the following:\n\n 	Participants are expected to set their username (or can change their names while in the call) in the following format [Organization/Company]-[Name].\n 	Participants are expected to enter the workshop zoom room 10 minutes before the workshop begins.\n\n4.      Workshop Material: Social Indicator\nWorkshop material will be shared with the registered participants before the workshop (one day in advance) so that they may go through the presentations/material before the workshop. The link to access the material will be shared with the registered email addresses of the participants.\n5.      Participants\nParticipantsin this training are OPEN Including but not limited to:\n\n 	GEIPP Industrial park PartnerBATAMINDO and MM2100 and tenants\n 	Other Industrial Parks\n 	All relevant stakeholders\n\n6.      Agenda\n Workshop on Improving Social Performance of IPs in Indonesia\n\n\n\nTime\nTopic\nMethod\nPIC\n\n\n\n\n13.00 – 13.15\nRegistration\nOnline forms\n\n\n\n13.15 – 13.30\nOpening\n\n–  Speech from GEIPP Programme in Indonesia\, Mr. Salil Dutt (Chief Technical Advisor-UNIDO)\n\n–  Opening Speech from Mr. Adi Pandiangan (Director of Industrial Region)\n\nUNIDO\n\nMoI\n\n\n13.30 – 13.40\n  Brief on Event Schedule\n\nMC\n\n\n13.40 – 14.00\nIndustrial Relations\, Ms. Julia Lusiani\n\nQ&A\nPresentation\nILO\n\n\n14.00 – 14.45\n1. Position of Social Issues in Sustainable Development\n\n2. Social issues in the Eco industrial Park framework\, LCA and GRI\n\n3. Social concern in its application in industrial areas\n\n4. Overview of Regulations and Policies and Management of Social Problems in Industrial Estates\nPresentation\nICPC\n\n\n14.45 – 15.00\nDiscussion\n\nUNIDO & ICPC\n\n\n15.00– 16.00\n1. Identify social problems and develop programs\, for industrial areas\n\n2. Case Study Challenges and success stories Managing social problems\n\n3. Measuring the Benefits of Managing Social Issues\nPresentation\nICPC\n\n\n16.00 – 16.30\nDiscussion and wrap up\n\nteam\n\n\n\n7.      Trainer and facilitator\n\n 	Jessica Hanafi\n 	M Denny Fardhan\n 	Sunita Dasman\n 	Vionita Permana\n\n8.      Registration/Nomination for Participation\nPlease confirm your attendance by fill out the online registration form at https://forms.gle/zEQEnVzDxLjr4Dnz5 and for further information\, you may contact Ms. Sasha by email at: S.USMAINI@unido.org / or WA ONLY: +62-81219504765.\n9.      Publication						\n				\n		            \n        \n                            \n        \n                \n            \n                        \n                    \n            \n                        		\n				\n			\n    \n                                \n            \n\n\n    \n\n    \n        \n        Salinan PP Nomor 20 Tahun 2024\n             \n\n            Download\n        \n    \n\n\n    \n    \n\n\n\n\n    \n\n    \n        \n        Kepmenperin 3174 TAHUN 2022\n             \n\n            Download\n        \n    \n\n\n    \n    \n\n\n\n\n    \n\n    \n        \n        Panduan Praktis Eco-Industrial Park Mengimplementasikan Kerangka Kerja EIP Internasional Toolbox (Bahasa)\n             \n\n            Download\n        \n    \n\n\n    \n    \n\n\n\n\n    \n\n    \n        \n        An International Framework for Eco Industrial Parks (Bahasa)\n             \n\n            Download\n        \n    \n\n\n    \n    \n\n\n\n\n    \n\n    \n        \n        Manual Toolbox untuk Eco-Industrial Park (Bahasa)\n             \n\n            Download\n        \n    \n\n\n    \n    \n\n\n\n\n    \n\n    \n        \n        Implementasi Buku Panduan Eco-Industrial Park (Bahasa)\n             \n\n            Download\n        \n    \n\n\n    \n    \n\n\n\n\n    \n\n    \n        \n        Peraturan Menteri Kemenperin No. 17 Tahun 2020\n             \n\n            Download\n        \n    \n\n\n    \n    \n\n\n\n\n    \n\n    \n        \n        Peraturan Menteri Kemenperin No. 45 Tahun 2019\n             \n\n            Download\n        \n    \n\n\n    \n    \n\n\n\n\n    \n\n    \n        \n        Implementation Handbook for Eco-Industrial Parks (English)\n             \n\n            Download\n        \n    \n\n\n    \n    \n\n\n\n\n    \n\n    \n        \n        International Framework For Eco-Industrial Parks 2017\n             \n\n            Download\n        \n    \n\n\n    \n    \n\n            12
URL:https://www.geippindonesia.org/activities/terms-of-reference-workshop-on-improving-social-performance-of-industrial-parks-ips-in-indonesia/
LOCATION:Virtual
CATEGORIES:GEIPP Indonesia
ATTACH;FMTTYPE=image/png:https://www.geippindonesia.org/wp-content/uploads/2021/11/workshop-on-improving-social-performance-of-IPS-in-Indonesia-cover.png
END:VEVENT
END:VCALENDAR