BEGIN:VCALENDAR
VERSION:2.0
PRODID:-//GEIPP Indonesia - ECPv5.9.1//NONSGML v1.0//EN
CALSCALE:GREGORIAN
METHOD:PUBLISH
X-WR-CALNAME:GEIPP Indonesia
X-ORIGINAL-URL:https://www.geippindonesia.org
X-WR-CALDESC:Events for GEIPP Indonesia
BEGIN:VTIMEZONE
TZID:UTC
BEGIN:STANDARD
TZOFFSETFROM:+0000
TZOFFSETTO:+0000
TZNAME:UTC
DTSTART:20220101T000000
END:STANDARD
END:VTIMEZONE
BEGIN:VEVENT
DTSTART;TZID=UTC:20221103T133000
DTEND;TZID=UTC:20221103T163000
DTSTAMP:20260422T172844
CREATED:20221021T021511Z
LAST-MODIFIED:20221206T085426Z
UID:19640-1667482200-1667493000@www.geippindonesia.org
SUMMARY:Workshop on Eco-Industrial Park Framework in Identifying Clean Energy and Renewable Energy Implementation in Industrial Park
DESCRIPTION:Terms of Reference Workshop on Eco-Industrial Park Framework Identifying Clean Energy and Renewable Energy Implementation in Industrial Park(Thursday\, 03 November 2022\, 13:30 to 16:30 virtual training) 						\n				\n		            \n        \n                            \n        \n                \n            \n                        \n                    \n            \n                        		\n				\n			\n            1. Background\n    \n        \n    		\n				\n				\n				\n								Industrial parks have long been recognized as an efficient means of unifying industrial activities with business\, infrastructure\, and service objectives. Industrial parks share many commonalities\, in that they are planned and developed to foster economic growth and of improving the location’s competitiveness through potential collaborative and efficiency gains. In the context of mounting pressure to address climate change and foster international development\, it is becoming increasingly clear that industrial parks need to move beyond their traditional resource-intensive business models to integrate environmental and social dimensions to remain a frontrunner in economic activities. The Global Eco-Industrial Parks Programme – Indonesia: Country Level Intervention (GEIPP-Indonesia) is geared up to demonstrate the viability and benefits of Eco-Industrial Park (EIP) approaches in scaling up resource productivity and improving economic\, environmental\, and social performances of businesses and thereby contribute to inclusive and sustainable industrial development in Indonesia. Key benefits of Eco-Industrial Parks include reducing an industrial park’s environmental footprint; promoting efficiency gains; enabling community cohesion; providing better access to finance and technical support; and enhancing business competitiveness. Good international industry practice demonstrates a wide range of economic\, environmental\, and social benefits from EIPs. The strategy to support the implementation of an Eco-Industrial Park is to consider the use of environmentally friendly energy sources. Clean energy is energy that comes from renewable\, zero-emission sources that do not pollute the atmosphere when used\, as well as energy saved by energy efficiency measures. Replacing energy with renewable energy sources will result in a cleaner production cycle. In addition\, in the use of new and renewable energy\, there are also benefits for industrial areas\, especially in the source of meeting unlimited energy needs. This workshop will discuss the practice of utilizing the renewable energy source as well as identifying potential energy efficiency activities as well as clean-energy source activities\, for instance\, the practice of electric cars and heat exchanges in industrial areas as well as other practices. 						\n				\n		            \n        \n                            \n        \n                \n            \n                        \n                    \n            \n                        		\n				\n			\n            2.Objectives and Expected Outcomes of The Workshop\n    \n        \n    		\n				\n				\n				\n								This workshop will discuss the practice of utilizing renewable energy sources and how to implement them in industrial parks. This workshop will also discuss how to identify and implement potential energy efficiency activities as well as clean-energy source activities\, for instance\, the practice of electric cars and heat exchanges in industrial areas as well as other practices. This workshop is expected to be attended by KIIC\, and its tenants. 						\n				\n		            \n        \n                            \n        \n                \n            \n                        \n                    \n            \n                        		\n				\n			\n            3. Date/Time\n    \n        \n    		\n				\n				\n				\n								The workshop will be conducted virtually by using the zoom platform. The details are provided below:Date : Thursday\, 03 November 2022Time : 13:30– 16.30 (Jakarta time) Link to join the virtual workshop:Topic: Workshop on Eco-Industrial Park Framework Implementation in Sustainability Reporting DevelopmentTime: Wednesday\, 29 Jun 2022 (9.00 am Jakarta time) Join Zoom Meetinghttps://us06web.zoom.us/j/83037838632?pwd=Z2xCYzg1ZXVCYlNTRTE2MmltUys0QT09 Meeting ID: 830 3783 8632Passcode: 100100Before entering the webinar room\, please pay attention to the following: Participants are expected to set their username (or can change their names while in the call) in the following format [Organization/Company]-[Name].Participants are expected to enter the workshop zoom room 10 minutes before the workshop begins.						\n				\n		            \n        \n                            \n        \n                \n            \n                        \n                    \n            \n                        		\n				\n			\n            4. Agenda\n    \n        \n    		\n				\n				\n				\n								Thursday\, 03 November 2022						\n				\n				\n				\n								\n\n\n\nTime\nDetails of the Topics\n\n\n\n\n\n13:15 – 13:30\nParticipants to login into the zoom room with the username in the suggested format\nAll\n\n\n13:30 –13:50\nOpening remarks:\n\n 	Welcome remarks by UNIDO\n 	Opening remarks by Ministry of Industry\n\nUNIDO\nMOI\n\n\n13:50 – 14:50\nWelcome\, objectives webinar\, presentation outline\nIntroduction to the renewable energy and clean energy practice\nThe importance of renewable energy implementation and clean energy activities\nRetno Gumilang\n\nDenny\n\nVionita\n\n\n14:50 – 15:00\nDiscussion\nTeam\n\n\n15:00 – 16:00\nBest practice and strategic steps\nRenewable energy and clean energy practices in the industrial park\nDiscussion\nRetno Gumilang\n\nDenny\n\nVionita\n\n\n16:00 – 16:10\nDiscussion\nTeam\n\n\n16:10 – 16:30\nConclusion and next steps\nFinal remarks and closing\nTeam\n\n\n						\n				\n		            \n        \n                            \n        \n                \n            \n                        \n                    \n            \n                        		\n				\n			\n            3. Trainer and facilitator\n    \n        \n    		\n				\n				\n				\n								Retno Gumilang DewiM Denny FardhanVionita Permana						\n				\n		            \n        \n                            \n        \n                \n            \n                        \n                    \n            \n                        		\n				\n			\n            3. Registration/Nomination for Participation\n    \n        \n    		\n				\n				\n				\n								Please confirm your attendance by email to Ms. Syafari Yusmaini: S.USMAINI@unido.org /WA ONLY: +62-81219504765 or fill the registration form by clicking\,\nhttps://forms.gle/pkeYmQr3r7ofLm2L6\n\nWe request you confirm your attendance by 30 October 2022						\n				\n		            \n        \n                            \n        \n                \n            \n                        \n                    \n            \n                        		\n				\n			Material Download		\n				\n				\n				\n			\n    \n                                \n                                \n\n        \n    \n\n		\n				\n		            \n        \n                \n            \n                        		\n				\n			\n    \n        \n\n\n\n\n\n        \n\n        \n\n            \n\n            \n\n\n                            \n                    Login Here                \n            \n            Login IDPassword\n\n                            \n                                    \n            \n                        \n            \n                Remember Me\n                Forgot Password?\n            \n\n            \n                  Login\n                \n                                    \n                                    Don't have an account yet?  Register Now\n                            \n\n\n            \n\n\n\n        \n\n\n\n        \n    \n\n\n\n\n		\n				\n		            \n        \n                            \n        \n        				\n					\n		Related:3rd Roundtable Meeting of Inter-ministerial Forum: Energy…Workshop in Eco-Industrial Park Implementation: Wastewater…Workshop in Eco-Industrial Park Implementation: Wastewater…Workshop on Management and Opportunity for Utilization of…The Final Event for The Global Eco-Industrial Parks…
URL:https://www.geippindonesia.org/activities/workshop-on-eco-industrial-park-framework-in-identifying-clean-energy-and-renewable-energy-implementation-in-industrial-park/
LOCATION:Virtual
CATEGORIES:GEIPP Indonesia,UNIDO
END:VEVENT
END:VCALENDAR