BEGIN:VCALENDAR
VERSION:2.0
PRODID:-//GEIPP Indonesia - ECPv5.9.1//NONSGML v1.0//EN
CALSCALE:GREGORIAN
METHOD:PUBLISH
X-WR-CALNAME:GEIPP Indonesia
X-ORIGINAL-URL:https://www.geippindonesia.org
X-WR-CALDESC:Events for GEIPP Indonesia
BEGIN:VTIMEZONE
TZID:UTC
BEGIN:STANDARD
TZOFFSETFROM:+0000
TZOFFSETTO:+0000
TZNAME:UTC
DTSTART:20230101T000000
END:STANDARD
END:VTIMEZONE
BEGIN:VEVENT
DTSTART;TZID=UTC:20230207T080000
DTEND;TZID=UTC:20230207T170000
DTSTAMP:20260422T172328
CREATED:20230308T032202Z
LAST-MODIFIED:20231205T111624Z
UID:19840-1675756800-1675789200@www.geippindonesia.org
SUMMARY:Workshop on Industrial Synergy to Boosting the Eco-Industrial Park Implementation
DESCRIPTION:The Focus Group Discussion (FGD) aimed to discuss the Industrial Synergy between Park Management and Tenants (supply chain synergies and co-location of suppliers and tenants\, utility synergies\, service synergies\, and by-product synergies and waste exchanges) and the potential and feasibility of Industrial Synergy implementation\, which ICPC has conducted in Feasibility Report based on FGD results and attended by 60 participants
URL:https://www.geippindonesia.org/activities/workshop-on-industrial-synergy-to-boosting-the-eco-industrial-park-implementation/
LOCATION:Virtual
CATEGORIES:GEIPP Indonesia
ATTACH;FMTTYPE=image/png:https://www.geippindonesia.org/wp-content/uploads/2023/12/230207-Workshop-on-Industrial-Synergy.png
END:VEVENT
END:VCALENDAR