BEGIN:VCALENDAR
VERSION:2.0
PRODID:-//GEIPP Indonesia - ECPv5.9.1//NONSGML v1.0//EN
CALSCALE:GREGORIAN
METHOD:PUBLISH
X-WR-CALNAME:GEIPP Indonesia
X-ORIGINAL-URL:https://www.geippindonesia.org
X-WR-CALDESC:Events for GEIPP Indonesia
BEGIN:VTIMEZONE
TZID:UTC
BEGIN:STANDARD
TZOFFSETFROM:+0000
TZOFFSETTO:+0000
TZNAME:UTC
DTSTART:20230101T000000
END:STANDARD
END:VTIMEZONE
BEGIN:VEVENT
DTSTART;TZID=UTC:20230315T080000
DTEND;TZID=UTC:20230315T170000
DTSTAMP:20260422T172828
CREATED:20230316T090345Z
LAST-MODIFIED:20231207T045155Z
UID:19852-1678867200-1678899600@www.geippindonesia.org
SUMMARY:Workshop on Regulation and Opportunity Synergy
DESCRIPTION:This workshop aims to understand the relevant regulations to implement an Eco-Industrial Park (EIP) including potential and opportunities for industrial synergies; and the benefits of implementing the EIP approach. The workshop was participated by the industrial parks\, The workshop was attended by 101 participants
URL:https://www.geippindonesia.org/activities/workshop-on-regulation-and-opportunity-synergy/
LOCATION:Zoom Meeting\, Indonesia
ATTACH;FMTTYPE=image/png:https://www.geippindonesia.org/wp-content/uploads/2023/03/230315-event-Workshop-on-Regulation-and-Opportunity-Synergy.png
END:VEVENT
END:VCALENDAR